BEGIN:VCALENDAR
VERSION:2.0
PRODID:-//Pierre Desvigne - ECPv6.15.7//NONSGML v1.0//EN
CALSCALE:GREGORIAN
METHOD:PUBLISH
X-ORIGINAL-URL:https://www.pierre-desvigne.com
X-WR-CALDESC:Évènements pour Pierre Desvigne
REFRESH-INTERVAL;VALUE=DURATION:PT1H
X-Robots-Tag:noindex
X-PUBLISHED-TTL:PT1H
BEGIN:VTIMEZONE
TZID:Europe/Paris
BEGIN:DAYLIGHT
TZOFFSETFROM:+0100
TZOFFSETTO:+0200
TZNAME:CEST
DTSTART:20230326T010000
END:DAYLIGHT
BEGIN:STANDARD
TZOFFSETFROM:+0200
TZOFFSETTO:+0100
TZNAME:CET
DTSTART:20231029T010000
END:STANDARD
BEGIN:DAYLIGHT
TZOFFSETFROM:+0100
TZOFFSETTO:+0200
TZNAME:CEST
DTSTART:20240331T010000
END:DAYLIGHT
BEGIN:STANDARD
TZOFFSETFROM:+0200
TZOFFSETTO:+0100
TZNAME:CET
DTSTART:20241027T010000
END:STANDARD
BEGIN:DAYLIGHT
TZOFFSETFROM:+0100
TZOFFSETTO:+0200
TZNAME:CEST
DTSTART:20250330T010000
END:DAYLIGHT
BEGIN:STANDARD
TZOFFSETFROM:+0200
TZOFFSETTO:+0100
TZNAME:CET
DTSTART:20251026T010000
END:STANDARD
END:VTIMEZONE
BEGIN:VEVENT
DTSTART;TZID=Europe/Paris:20240210T200000
DTEND;TZID=Europe/Paris:20240210T213000
DTSTAMP:20260424T013636
CREATED:20231102T095532Z
LAST-MODIFIED:20231107T223020Z
UID:472-1707595200-1707600600@www.pierre-desvigne.com
SUMMARY:De bois de fer
DESCRIPTION:avec JULIEN BEHAR\, SAXOPHONISTE – \nFaire une promesse\, c’est prendre un pari sur l’avenir – avenir dont on ignore tout\, et sur lequel nous n’avons aucune prise\, sauf l’illusion de le maîtriser à moyen ou cours terme. Cette création propose une série de récits fantastiques\, musicaux et contemporains qui interrogent la notion de fidélité\, de serment\, de contrat… \nVERS PAGE SPECTACLE
URL:https://www.pierre-desvigne.com/evenement/de-bois-de-fer-4/
LOCATION:Bab’el Ouest\, 5 avenue de Wattinies\, Nantes\, Loire-Atlantique\, 44
CATEGORIES:Concert d'histoires
END:VEVENT
END:VCALENDAR