BEGIN:VCALENDAR
VERSION:2.0
PRODID:-//Pierre Desvigne - ECPv6.15.7//NONSGML v1.0//EN
CALSCALE:GREGORIAN
METHOD:PUBLISH
X-ORIGINAL-URL:https://www.pierre-desvigne.com
X-WR-CALDESC:Évènements pour Pierre Desvigne
REFRESH-INTERVAL;VALUE=DURATION:PT1H
X-Robots-Tag:noindex
X-PUBLISHED-TTL:PT1H
BEGIN:VTIMEZONE
TZID:Europe/Paris
BEGIN:DAYLIGHT
TZOFFSETFROM:+0100
TZOFFSETTO:+0200
TZNAME:CEST
DTSTART:20220327T010000
END:DAYLIGHT
BEGIN:STANDARD
TZOFFSETFROM:+0200
TZOFFSETTO:+0100
TZNAME:CET
DTSTART:20221030T010000
END:STANDARD
BEGIN:DAYLIGHT
TZOFFSETFROM:+0100
TZOFFSETTO:+0200
TZNAME:CEST
DTSTART:20230326T010000
END:DAYLIGHT
BEGIN:STANDARD
TZOFFSETFROM:+0200
TZOFFSETTO:+0100
TZNAME:CET
DTSTART:20231029T010000
END:STANDARD
BEGIN:DAYLIGHT
TZOFFSETFROM:+0100
TZOFFSETTO:+0200
TZNAME:CEST
DTSTART:20240331T010000
END:DAYLIGHT
BEGIN:STANDARD
TZOFFSETFROM:+0200
TZOFFSETTO:+0100
TZNAME:CET
DTSTART:20241027T010000
END:STANDARD
END:VTIMEZONE
BEGIN:VEVENT
DTSTART;TZID=Europe/Paris:20231121T123000
DTEND;TZID=Europe/Paris:20231121T133000
DTSTAMP:20260423T233232
CREATED:20231102T085559Z
LAST-MODIFIED:20231114T182702Z
UID:429-1700569800-1700573400@www.pierre-desvigne.com
SUMMARY:Histoire du Soldat - Stravinsky / Ramuz
DESCRIPTION:avec L’ORCHESTRE NATIONAL DES PAYS DE LA LOIRE : \nClaire Aladjem – violon\, Jean-Jacques Rollez – contrebasse\, Sabrina Moulaï – Clarinette\, Gaëlle Habert – basson\, Maxime Fasquel – cornet à piston\, Jean-Sébastien Scotton – trombone\, Hans Loir – percussions \nPierre Desvigne – récitant \nChorégraphie d’Eléonore Arnould pour les danseurs du CRR d’Angers  : Merlin Guitton\, Marcel Nicoleau-Jadeau et Lou-Ann Pillet \n  \n 
URL:https://www.pierre-desvigne.com/evenement/histoire-du-soldat-stravinsky-ramuz/
LOCATION:Cité des Congrès\, Nantes\, Loire-Atlantique\, 44
CATEGORIES:Récitant musique classique
END:VEVENT
BEGIN:VEVENT
DTSTART;TZID=Europe/Paris:20231123T123000
DTEND;TZID=Europe/Paris:20231123T133000
DTSTAMP:20260423T233232
CREATED:20231102T091112Z
LAST-MODIFIED:20231114T182642Z
UID:440-1700742600-1700746200@www.pierre-desvigne.com
SUMMARY:Histoire du Soldat – Stravinsky / Ramuz
DESCRIPTION:avec L’ORCHESTRE NATIONAL DES PAYS DE LA LOIRE : \nClaire Aladjem – violon\, Jean-Jacques Rollez – contrebasse\, Sabrina Moulaï – Clarinette\, Gaëlle Habert – basson\, Maxime Fasquel – cornet à piston\, Jean-Sébastien Scotton – trombone\, Hans Loir – percussions \nPierre Desvigne – récitant \nChorégraphie d’Eléonore Arnould pour les danseurs du CRR d’Angers  : Merlin Guitton\, Marcel Nicoleau-Jadeau et Lou-Ann Pillet \n 
URL:https://www.pierre-desvigne.com/evenement/histoire-du-soldat-stravinsky-ramuz-2/
LOCATION:Palais des Congrès\, Angers\, Maine-et-Loire\, 49
CATEGORIES:Récitant musique classique
END:VEVENT
END:VCALENDAR